BEGIN:VCALENDAR
VERSION:2.0
PRODID:-//gesunderfolgreich.net - ECPv6.15.18//NONSGML v1.0//EN
CALSCALE:GREGORIAN
METHOD:PUBLISH
X-ORIGINAL-URL:https://gesunderfolgreich.net
X-WR-CALDESC:Veranstaltungen für gesunderfolgreich.net
REFRESH-INTERVAL;VALUE=DURATION:PT1H
X-Robots-Tag:noindex
X-PUBLISHED-TTL:PT1H
BEGIN:VTIMEZONE
TZID:Europe/Berlin
BEGIN:DAYLIGHT
TZOFFSETFROM:+0100
TZOFFSETTO:+0200
TZNAME:CEST
DTSTART:20220327T010000
END:DAYLIGHT
BEGIN:STANDARD
TZOFFSETFROM:+0200
TZOFFSETTO:+0100
TZNAME:CET
DTSTART:20221030T010000
END:STANDARD
BEGIN:DAYLIGHT
TZOFFSETFROM:+0100
TZOFFSETTO:+0200
TZNAME:CEST
DTSTART:20230326T010000
END:DAYLIGHT
BEGIN:STANDARD
TZOFFSETFROM:+0200
TZOFFSETTO:+0100
TZNAME:CET
DTSTART:20231029T010000
END:STANDARD
BEGIN:DAYLIGHT
TZOFFSETFROM:+0100
TZOFFSETTO:+0200
TZNAME:CEST
DTSTART:20240331T010000
END:DAYLIGHT
BEGIN:STANDARD
TZOFFSETFROM:+0200
TZOFFSETTO:+0100
TZNAME:CET
DTSTART:20241027T010000
END:STANDARD
END:VTIMEZONE
BEGIN:VEVENT
DTSTART;TZID=Europe/Berlin:20230502T190000
DTEND;TZID=Europe/Berlin:20230523T203000
DTSTAMP:20260420T144244
CREATED:20230108T215955Z
LAST-MODIFIED:20231016T141858Z
UID:936-1683054000-1684873800@gesunderfolgreich.net
SUMMARY:Werde zertifizierter Präventionscoach!
DESCRIPTION:Warte nicht\, bis Du krank bist!Sei Dein eigener Präventions-Coach  \n  \nIn nur 4 Wochen bist Du in der Lage: \n\nDeine Gesundheit über die Körperversorgung zu beeinflussen.\nDeine Selbstheilungskräfte für Dich arbeiten zu lassen.\nDich vor Medikamenten und Impfschäden zu schützen.\n\nWas hast Du davon? \nDu legst damit den Grundstein für Dein gesundes und glückliches Leben. Auch Deine Familie profitiert davon. \nBonus für Dich: \n\nDu hast lebenslangen Zugriff auf eine umfangreiche Wissensdatenbank.\nEin Team aus gesundheitsorientierten Experten steht Dir in unserem Netzwerk zur Verfügung.\nDu bekommst ein abschließendes Zertifikat.\n\n\nDauer: 4 Wochen\, jeweils dienstags von 19:00 Uhr bis 20:30 Uhr\nEinführungspreis: 49\,00 € anstatt 199\,00 €\nAnmeldung\n\n\n\n  \n\n\n\nIhr Name*\n \n\n \nIhre E-Mail-Adresse*\n \n\n \nIhre Telefonnummer\n \n\n \nIhre Nachricht*\n \n\n \nIhre Daten werden zur Kontaktaufnahme von uns gespeichert\, es erfolgt keine Weitergabe an Dritte. zur Datenschutzerklärung\n \nIch stimme der Speicherung meiner Daten zur Kontakaufnahme zu\n \n\n \nDie mit * gekennzeichneten Felder sind erforderlich\, die übrigen Felder sind freiwillige Angaben.\n ×
URL:https://gesunderfolgreich.net/event/werde-zertifizierter-praeventionscoach-2/
LOCATION:Online via Zoom
CATEGORIES:Coaching
END:VEVENT
END:VCALENDAR