BEGIN:VCALENDAR
VERSION:2.0
PRODID:-//gesunderfolgreich.net - ECPv6.15.18//NONSGML v1.0//EN
CALSCALE:GREGORIAN
METHOD:PUBLISH
X-ORIGINAL-URL:https://gesunderfolgreich.net
X-WR-CALDESC:Veranstaltungen für gesunderfolgreich.net
REFRESH-INTERVAL;VALUE=DURATION:PT1H
X-Robots-Tag:noindex
X-PUBLISHED-TTL:PT1H
BEGIN:VTIMEZONE
TZID:Europe/Berlin
BEGIN:DAYLIGHT
TZOFFSETFROM:+0100
TZOFFSETTO:+0200
TZNAME:CEST
DTSTART:20240331T010000
END:DAYLIGHT
BEGIN:STANDARD
TZOFFSETFROM:+0200
TZOFFSETTO:+0100
TZNAME:CET
DTSTART:20241027T010000
END:STANDARD
BEGIN:DAYLIGHT
TZOFFSETFROM:+0100
TZOFFSETTO:+0200
TZNAME:CEST
DTSTART:20250330T010000
END:DAYLIGHT
BEGIN:STANDARD
TZOFFSETFROM:+0200
TZOFFSETTO:+0100
TZNAME:CET
DTSTART:20251026T010000
END:STANDARD
BEGIN:DAYLIGHT
TZOFFSETFROM:+0100
TZOFFSETTO:+0200
TZNAME:CEST
DTSTART:20260329T010000
END:DAYLIGHT
BEGIN:STANDARD
TZOFFSETFROM:+0200
TZOFFSETTO:+0100
TZNAME:CET
DTSTART:20261025T010000
END:STANDARD
END:VTIMEZONE
BEGIN:VEVENT
DTSTART;TZID=Europe/Berlin:20250109T200000
DTEND;TZID=Europe/Berlin:20250109T210000
DTSTAMP:20260421T202234
CREATED:20220907T125909Z
LAST-MODIFIED:20260105T184352Z
UID:910-1736452800-1736456400@gesunderfolgreich.net
SUMMARY:Vortrag Gesundheit
DESCRIPTION:Sei gerüstet für mehr Gesundheit & Lebensqualität \nGesundheits-Vortrag\nGesundheit ist selten geworden. Wie viele Menschen kennst du\, die behaupten können\, kerngesund zu sein? Die Zahl ist sicher überschaubar. \nBesuche kostenlos diesen Vortrag und erfahre mehr über das Thema Gesundheit und Ernährung. Lerne zu verstehen\, wie der Körper funktioniert und warum es so viele Mythen über diese Themen gibt. Einfach und logisch erklärt! \nSichere dir noch heute deinen Platz in der 1. Reihe! \nMelde dich über das Kontaktformular an und erhalte den Link zur Veranstaltung! \nhttps://gesunderfolgreich.net/kontakt/
URL:https://gesunderfolgreich.net/event/vortrag-gesundheit/
LOCATION:Online via Zoom
CATEGORIES:Coaching
END:VEVENT
END:VCALENDAR