BEGIN:VCALENDAR
VERSION:2.0
PRODID:-//gesunderfolgreich.net - ECPv6.15.18//NONSGML v1.0//EN
CALSCALE:GREGORIAN
METHOD:PUBLISH
X-ORIGINAL-URL:https://gesunderfolgreich.net
X-WR-CALDESC:Veranstaltungen für gesunderfolgreich.net
REFRESH-INTERVAL;VALUE=DURATION:PT1H
X-Robots-Tag:noindex
X-PUBLISHED-TTL:PT1H
BEGIN:VTIMEZONE
TZID:Europe/Berlin
BEGIN:DAYLIGHT
TZOFFSETFROM:+0100
TZOFFSETTO:+0200
TZNAME:CEST
DTSTART:20250330T010000
END:DAYLIGHT
BEGIN:STANDARD
TZOFFSETFROM:+0200
TZOFFSETTO:+0100
TZNAME:CET
DTSTART:20251026T010000
END:STANDARD
BEGIN:DAYLIGHT
TZOFFSETFROM:+0100
TZOFFSETTO:+0200
TZNAME:CEST
DTSTART:20260329T010000
END:DAYLIGHT
BEGIN:STANDARD
TZOFFSETFROM:+0200
TZOFFSETTO:+0100
TZNAME:CET
DTSTART:20261025T010000
END:STANDARD
BEGIN:DAYLIGHT
TZOFFSETFROM:+0100
TZOFFSETTO:+0200
TZNAME:CEST
DTSTART:20270328T010000
END:DAYLIGHT
BEGIN:STANDARD
TZOFFSETFROM:+0200
TZOFFSETTO:+0100
TZNAME:CET
DTSTART:20271031T010000
END:STANDARD
END:VTIMEZONE
BEGIN:VEVENT
DTSTART;VALUE=DATE:20260706
DTEND;VALUE=DATE:20260711
DTSTAMP:20260421T203942
CREATED:20260223T163758Z
LAST-MODIFIED:20260308T095904Z
UID:1463-1783296000-1783727999@gesunderfolgreich.net
SUMMARY:Wunschkampagne! Deine Stimme zählt
DESCRIPTION:Das Voting läuft noch bis zum 03.07.2026.\n  \nVote mit und entscheide\, welches Thema in dieser Woche „Thema“ sein soll. \n 👉 Direktlink zur Umfrage \n  \nDie Kampagne findet via WhatsAPP statt und ist kostenfrei. Also schnell noch einen Platz sichern und anmelden.   \nDas Gewinner-Thema wird nach dem Voting auch hier bekannt gegeben.\n  \n 
URL:https://gesunderfolgreich.net/event/wunschkampagne-jede-stimme-zaehlt-vote/
LOCATION:Online via Whats-App\, Germany
CATEGORIES:Online-Kampagne
ATTACH;FMTTYPE=image/jpeg:https://gesunderfolgreich.net/wp-content/uploads/2026/01/1000077188.jpg
ORGANIZER;CN="Gesunderfolgreich":MAILTO:info@gesunderfolgreich.info
END:VEVENT
END:VCALENDAR